BEGIN:VCALENDAR
VERSION:2.0
PRODID:-//IP.Board Calendar 4.4.10//EN
METHOD:PUBLISH
CALSCALE:GREGORIAN
X-WR-CALNAME:Community Calendar
BEGIN:VTIMEZONE
TZID:Europe/London
TZURL:http://tzurl.org/zoneinfo/Europe/London
X-LIC-LOCATION:Europe/London
BEGIN:DAYLIGHT
TZOFFSETFROM:+0000
TZOFFSETTO:+0100
TZNAME:BST
DTSTART:20190331T020000Z
RRULE:FREQ=YEARLY;BYMONTH=3;BYDAY=-1SU
END:DAYLIGHT
BEGIN:STANDARD
TZOFFSETFROM:+0100
TZOFFSETTO:+0000
TZNAME:GMT
DTSTART:20191027T020000Z
RRULE:FREQ=YEARLY;BYMONTH=10;BYDAY=-1SU
END:STANDARD
END:VTIMEZONE
BEGIN:VEVENT
SUMMARY:UWS DIVISION 2 HALLOWEEN EVENT
DTSTAMP:20191024T164829Z
SEQUENCE:0
UID:117-1-07919be3e5628e588448081ea374c7ac@forums.uwsgaming.com
ORGANIZER;CN="AgentSerro":noreply@uwsgaming.com
DESCRIPTION:\n\n	\n\n\n\n	 \n\n\n\n	\n		Starting right now\, our Hallow
	een event is underway\n	\n\n\n\n	 \n\n\n\n	\n		On October 31st (Halloween
	) one winner will be picked at random and one winner will be picked for be
	st screenshot\n	\n\n\n\n	 \n\n\n\n	\n		I will have a list of video games 
	up for grabs\, will post those soon\n	\n\n\n\n	 \n\n\n\n	\n		You must pos
	t one and only one screenshot here\, this screen shot must be in some way 
	Halloween related. So take a screen shot of you wearing a costume\, or tak
	e a screen shot of something spooky/scary or anything Halloween related (p
	umpkins\, candy\, costume\, spooky\, scary\, etc) and then post it here.\n
		\n\n\n\n	 \n\n\n\n	\n		You must post one screenshot to enter this contes
	t\n	\n\n\n\n	 \n\n\n\n	\n		Deadline for posting screenshot is October 30t
	h at midnight\n	\n\n\n\n	 \n\n\n\n	\n		Only reply to this post with your 
	screen shot entry\n	\n\n\n\n	 \n\n\n\n	\n		Captains and higher rank not e
	ligible for winning prize but still welcomed to post\n	\n\n\n\n	 \n\n\n\n
		 \n\n\n\n	What: UWS Division 2 Halloween Event\n\n\n\n	When: Starting NO
	W and ending October 31st\n\n\n\n	Where: Division 2\n\n\n\n	Why: Because i
	ts Halloween plus every one likes contests and prizes\n\n\n\n	How: Take on
	e Halloween related screenshot and post it here\, but only one screenshot!
	\n\n\n\n	 \n\n\n\n	Winners will pick one of the following:\n\n\n\n	\n\n
DTSTART:20191024T150000Z
DTEND:20191031T220000Z
END:VEVENT
END:VCALENDAR
